BEGIN:VCALENDAR
VERSION:2.0
PRODID:-//&#039;t Spoor - ECPv6.15.11//NONSGML v1.0//EN
CALSCALE:GREGORIAN
METHOD:PUBLISH
X-ORIGINAL-URL:https://spoor-t.nl
X-WR-CALDESC:Evenementen voor &#039;t Spoor
REFRESH-INTERVAL;VALUE=DURATION:PT1H
X-Robots-Tag:noindex
X-PUBLISHED-TTL:PT1H
BEGIN:VTIMEZONE
TZID:Europe/Amsterdam
BEGIN:DAYLIGHT
TZOFFSETFROM:+0100
TZOFFSETTO:+0200
TZNAME:CEST
DTSTART:20240331T010000
END:DAYLIGHT
BEGIN:STANDARD
TZOFFSETFROM:+0200
TZOFFSETTO:+0100
TZNAME:CET
DTSTART:20241027T010000
END:STANDARD
BEGIN:DAYLIGHT
TZOFFSETFROM:+0100
TZOFFSETTO:+0200
TZNAME:CEST
DTSTART:20250330T010000
END:DAYLIGHT
BEGIN:STANDARD
TZOFFSETFROM:+0200
TZOFFSETTO:+0100
TZNAME:CET
DTSTART:20251026T010000
END:STANDARD
BEGIN:DAYLIGHT
TZOFFSETFROM:+0100
TZOFFSETTO:+0200
TZNAME:CEST
DTSTART:20260329T010000
END:DAYLIGHT
BEGIN:STANDARD
TZOFFSETFROM:+0200
TZOFFSETTO:+0100
TZNAME:CET
DTSTART:20261025T010000
END:STANDARD
END:VTIMEZONE
BEGIN:VEVENT
DTSTART;TZID=Europe/Amsterdam:20251126T193000
DTEND;TZID=Europe/Amsterdam:20251126T223000
DTSTAMP:20260420T014449
CREATED:20250903T195750Z
LAST-MODIFIED:20251103T111150Z
UID:1804-1764185400-1764196200@spoor-t.nl
SUMMARY:Lezing Het Spiegelpaleis Daniel Derweduwen
DESCRIPTION:Aanvang : 19:00 \nBegin lezing : 19:30 \nEntreekosten : €15\,- \nAanmelden kan door een ticket te kopen via de onderstaande link van Hipsy of een e-mail te sturen naar: spoorplatform@gmail.com en bij aankomst te betalen. \nhttps://hipsy.nl/spoor-platform \nHet Spiegelpaleis – Jouw innerlijke wereld weerspiegeld in de realiteit \nWaarom blijven bepaalde relaties zich herhalen?\nWaarom irriteert net die ene persoon jou zó?\nWaarom lijkt het leven soms tegen je te werken\, terwijl je het zo goed bedoelt?\nIn deze diepgaande en helder opgebouwde lezing nemen we je mee in het mysterie van het Spiegelpaleis — een reis door de kwantumfysica\, de psychologie van emoties\, en het onbewuste dat via de buitenwereld tot je spreekt.\nJe ontdekt hoe alles wat je raakt in een ander\, een spiegel is van wat in jou leeft\n— bewust of nog onbewust.\n– Een inspirerende mix van inzichten\, beelden\, voorbeelden\, interactieve momenten en herkenning.\n– Ideaal voor wie verlangt naar innerlijke groei\, helderheid in relaties\, en verbinding met zichzelf.\n– Praktisch\, bevrijdend en zielsversterkend.\n“Wat je buiten jezelf zoekt\, zal je blijven ontglippen. Wat je in jezelf herkent\, keert als liefde naar je terug.”\nKom ontdekken. Kom spiegelen. Kom thuiskomen bij jezelf. De wereld is niet buiten jou – het is jouw canvas. Wat jij durft te zien\, durft te helen. \nLeef jij in een spiegelpaleis zonder het te beseffen?\n● …heb je je ooit afgevraagd waarom je telkens weer botst met dezelfde types mensen?\n● …waarom bepaalde uitspraken of gedragingen van anderen je zo diep kunnen raken?\n● …of die irritante collega\, die veeleisende partner of dat onredelijke familielid misschien iets weerspiegelen wat je nog niet in jezelf hebt aangekeken?\n● …of jouw oordeel over een ander eigenlijk een verborgen pijnpunt in jouzelf blootlegt? \nWat als je leven geen aaneenschakeling is van toeval of pech…\nmaar een verfijnd spiegelpaleis waarin elke ontmoeting\, elk conflict en elke emotie je iets wil tonen over jezelf?\nDurf jij te kijken naar wat het leven jou laat zien?\nOf blijf je boos op de spiegel… omdat je het spiegelbeeld niet herkent als iets van jezelf?
URL:https://spoor-t.nl/kalender/lezing-het-spiegelpaleis-daniel-derweduwen/
LOCATION:’t Spoor\, Wendelnesseweg-oost 4\, Sprang-Capelle\, Noord-Brabant\, 5161 ZA\, Netherlands
CATEGORIES:Lezingen
ORGANIZER;CN="Spoor":MAILTO:platform@spoor-t.nl
END:VEVENT
END:VCALENDAR