BEGIN:VCALENDAR
VERSION:2.0
PRODID:-//&#039;t Spoor - ECPv6.15.11//NONSGML v1.0//EN
CALSCALE:GREGORIAN
METHOD:PUBLISH
X-WR-CALNAME:&#039;t Spoor
X-ORIGINAL-URL:https://spoor-t.nl
X-WR-CALDESC:Evenementen voor &#039;t Spoor
REFRESH-INTERVAL;VALUE=DURATION:PT1H
X-Robots-Tag:noindex
X-PUBLISHED-TTL:PT1H
BEGIN:VTIMEZONE
TZID:Europe/Amsterdam
BEGIN:DAYLIGHT
TZOFFSETFROM:+0100
TZOFFSETTO:+0200
TZNAME:CEST
DTSTART:20240331T010000
END:DAYLIGHT
BEGIN:STANDARD
TZOFFSETFROM:+0200
TZOFFSETTO:+0100
TZNAME:CET
DTSTART:20241027T010000
END:STANDARD
BEGIN:DAYLIGHT
TZOFFSETFROM:+0100
TZOFFSETTO:+0200
TZNAME:CEST
DTSTART:20250330T010000
END:DAYLIGHT
BEGIN:STANDARD
TZOFFSETFROM:+0200
TZOFFSETTO:+0100
TZNAME:CET
DTSTART:20251026T010000
END:STANDARD
BEGIN:DAYLIGHT
TZOFFSETFROM:+0100
TZOFFSETTO:+0200
TZNAME:CEST
DTSTART:20260329T010000
END:DAYLIGHT
BEGIN:STANDARD
TZOFFSETFROM:+0200
TZOFFSETTO:+0100
TZNAME:CET
DTSTART:20261025T010000
END:STANDARD
END:VTIMEZONE
BEGIN:VEVENT
DTSTART;TZID=Europe/Amsterdam:20251129T140000
DTEND;TZID=Europe/Amsterdam:20251129T170000
DTSTAMP:20260422T045532
CREATED:20260221T130034Z
LAST-MODIFIED:20251004T160749Z
UID:1864-1764424800-1764435600@spoor-t.nl
SUMMARY:Lezing LEEF als het GRAS Piet Grasspriet
DESCRIPTION:Aanvang : 13:30 \nBegin lezing : 14:00 \nEntreekosten : €15\,- \nAanmelden kan door een ticket te kopen via de onderstaande link van Hipsy of een e-mail te sturen naar: spoorplatform@gmail.com en bij aankomst te betalen. \nhttps://hipsy.nl/spoor-platform \nDe lezing LEEF als het GRAS\, gaat over het lichaam dat ons voertuig is\, het lichaam natuur en het lichaam kosmos waarin we leven. De 6 pijlers die op alles van invloed zijn\, wat de kruiden ons komen vertellen en wat hun geneeskracht is. Daarnaast de communicatie tussen de kosmos en de natuur middels kristallen en trilling & frequentie. Kortom\, een mega interessant verhaal. \n  \nHieronder onze korte samenvatting: \nTerug naar de Natuur\, \nTerug naar de bron\, terug naar de oer en terug naar de natuur\, dat waar het telkens weer om draait om puur en zuiver te kunnen zijn. Het lichaam dat ons voertuig is\, het lichaam natuur om ons heen en het lichaam kosmos waar wij ons in bevinden\, terwijl we rondreizen op de planeet Moeder Aarde als zijnde een ruimteschip. De kringloop van jou\, de kringloop van mij\, de kringloop van Moeder Natuur en de kringloop van de kosmos dat een omloop is. Telkens keert alles weer terug via de plek waar het ooit begon en wauw… Gras is simpel.  \nHet leven is een fantastische reis waar nooit een einde aan komt. De natuur die met ons communiceert via de kosmos en de kruiden met een boodschap…voeding\, heling en geneeskracht en komt brengen voor wie die taal wil begrijpen. De communicatie\ntussen de kosmos en de natuur is fenomenaal.\nGras is Simpel.
URL:https://spoor-t.nl/kalender/lezing-leef-als-het-gras-piet-grasspriet/
LOCATION:’t Spoor\, Wendelnesseweg-oost 4\, Sprang-Capelle\, Noord-Brabant\, 5161 ZA\, Netherlands
CATEGORIES:Lezingen
ORGANIZER;CN="Spoor":MAILTO:platform@spoor-t.nl
END:VEVENT
END:VCALENDAR