BEGIN:VCALENDAR
VERSION:2.0
PRODID:-//&#039;t Spoor - ECPv6.15.11//NONSGML v1.0//EN
CALSCALE:GREGORIAN
METHOD:PUBLISH
X-ORIGINAL-URL:https://spoor-t.nl
X-WR-CALDESC:Evenementen voor &#039;t Spoor
REFRESH-INTERVAL;VALUE=DURATION:PT1H
X-Robots-Tag:noindex
X-PUBLISHED-TTL:PT1H
BEGIN:VTIMEZONE
TZID:Europe/Amsterdam
BEGIN:DAYLIGHT
TZOFFSETFROM:+0100
TZOFFSETTO:+0200
TZNAME:CEST
DTSTART:20240331T010000
END:DAYLIGHT
BEGIN:STANDARD
TZOFFSETFROM:+0200
TZOFFSETTO:+0100
TZNAME:CET
DTSTART:20241027T010000
END:STANDARD
BEGIN:DAYLIGHT
TZOFFSETFROM:+0100
TZOFFSETTO:+0200
TZNAME:CEST
DTSTART:20250330T010000
END:DAYLIGHT
BEGIN:STANDARD
TZOFFSETFROM:+0200
TZOFFSETTO:+0100
TZNAME:CET
DTSTART:20251026T010000
END:STANDARD
BEGIN:DAYLIGHT
TZOFFSETFROM:+0100
TZOFFSETTO:+0200
TZNAME:CEST
DTSTART:20260329T010000
END:DAYLIGHT
BEGIN:STANDARD
TZOFFSETFROM:+0200
TZOFFSETTO:+0100
TZNAME:CET
DTSTART:20261025T010000
END:STANDARD
END:VTIMEZONE
BEGIN:VEVENT
DTSTART;TZID=Europe/Amsterdam:20251210T193000
DTEND;TZID=Europe/Amsterdam:20251210T223000
DTSTAMP:20260418T082018
CREATED:20251030T175743Z
LAST-MODIFIED:20251030T202208Z
UID:1966-1765395000-1765405800@spoor-t.nl
SUMMARY:Lezing Naar Een Open Cirkel Peter Toonen
DESCRIPTION:Aanvang : 19:00 \nBegin lezing : 19:30 \nEntreekosten : €20\,- \nAanmelden kan door een ticket te kopen via de onderstaande link van Hipsy of een e-mail te sturen naar: platform@spoor-t.nl en bij aankomst te betalen. \nhttps://hipsy.nl/spoor-platform \nNAAR EEN OPEN CIRKEL\nVan kunstmatige illusies naar natuurlijke kracht\nLezing van Peter Toonen n.a.v. zijn nieuwe boek.\nPeter neemt je mee op een reis met veel persoonlijke belevenissen zoals zijn contacten met natuurvolkeren en met natuurwezens en wat hij van hen leerde over ons DNA en DNA in het algemeen. Een verhaal over God en goden\, over adellijke bloedlijnen\, verloren beschavingen en buitenaardsen. Wat is werkelijkheid\, wat is illusie? Wat is de Matrix? Door de opkomst van A.I. moeten we de vraag stellen: wie zijn wij mensen? Wat is onze kracht? \nPeter Toonen (Hilvarenbeek\, 1958) is trainer\, coach\, inspirator\, verteller en schrijver (van tien boeken). Hij geeft lezingen over uiteenlopende onderwerpen en workshops\, met name over je zelfhelend vermogen. Peter studeerde andragogie aan de Universiteit Utrecht\, was jarenlang deejay en grafisch ontwerper en hij heeft een praktijk in personal coaching en was vele jaren eigenaar van en hoofddocent aan de opleiding Energetisch Coaching in Doorn\, Utrecht en Roosendaal. Door zijn boeken en workshops over de kalenders van de Maya’s werd hij landelijk en ook internationaal bekend als ‘2012 deskundige’ en trad hij op in vele landelijke radio- en tv programma’s. In 2003 won hij de Frontier Award voor zijn onderzoekswerk in de grenswetenschappen. In 2020 was hij medeoprichter van de Vereniging voor Vrije Journalisten. Vanaf zomer 2019 schrijft hij maandelijks voor Spiegelbeeld Magazine en vanaf zomer 2022 vrijwel wekelijks voor De Andere Krant.\nZijn motto’s: ‘de enige groei is die van bewustzijn’ en ‘hou het simpel’.
URL:https://spoor-t.nl/kalender/lezing-naar-een-open-cirkel-peter-toonen/
LOCATION:’t Spoor\, Wendelnesseweg-oost 4\, Sprang-Capelle\, Noord-Brabant\, 5161 ZA\, Netherlands
CATEGORIES:Lezingen
ORGANIZER;CN="Spoor":MAILTO:platform@spoor-t.nl
END:VEVENT
END:VCALENDAR