BEGIN:VCALENDAR
VERSION:2.0
PRODID:-//&#039;t Spoor - ECPv6.15.11//NONSGML v1.0//EN
CALSCALE:GREGORIAN
METHOD:PUBLISH
X-ORIGINAL-URL:https://spoor-t.nl
X-WR-CALDESC:Evenementen voor &#039;t Spoor
REFRESH-INTERVAL;VALUE=DURATION:PT1H
X-Robots-Tag:noindex
X-PUBLISHED-TTL:PT1H
BEGIN:VTIMEZONE
TZID:Europe/Amsterdam
BEGIN:DAYLIGHT
TZOFFSETFROM:+0100
TZOFFSETTO:+0200
TZNAME:CEST
DTSTART:20250330T010000
END:DAYLIGHT
BEGIN:STANDARD
TZOFFSETFROM:+0200
TZOFFSETTO:+0100
TZNAME:CET
DTSTART:20251026T010000
END:STANDARD
BEGIN:DAYLIGHT
TZOFFSETFROM:+0100
TZOFFSETTO:+0200
TZNAME:CEST
DTSTART:20260329T010000
END:DAYLIGHT
BEGIN:STANDARD
TZOFFSETFROM:+0200
TZOFFSETTO:+0100
TZNAME:CET
DTSTART:20261025T010000
END:STANDARD
BEGIN:DAYLIGHT
TZOFFSETFROM:+0100
TZOFFSETTO:+0200
TZNAME:CEST
DTSTART:20270328T010000
END:DAYLIGHT
BEGIN:STANDARD
TZOFFSETFROM:+0200
TZOFFSETTO:+0100
TZNAME:CET
DTSTART:20271031T010000
END:STANDARD
END:VTIMEZONE
BEGIN:VEVENT
DTSTART;TZID=Europe/Amsterdam:20260225T193000
DTEND;TZID=Europe/Amsterdam:20260225T223000
DTSTAMP:20260418T042312
CREATED:20260121T184654Z
LAST-MODIFIED:20260121T184654Z
UID:2146-1772047800-1772058600@spoor-t.nl
SUMMARY:Lezing De wondere Quantumwereld Pierre Capel
DESCRIPTION:Aanvang : 19:00 \nBegin lezing : 19:30 \nEntreekosten : €17\,50 \nAanmelden kan door een ticket te kopen via de onderstaande link van Hipsy of een e-mail te sturen naar: platform@spoor-t.nl en bij aankomst te betalen. \nhttps://hipsy.nl/spoor-platform \nDe wondere Quantumwereld \nDe wereld van de quantummechanica is als een “Alice in Wonderland”.\nAlles is anders dan je gewend bent. Wat bedoelde Einstein nu eigenlijk met zijn\nrelativiteitstheorie. Waarom is er binnen een zwart gat geen tijd?\nIets is op meerdere plaatsen tot wij er naar kijken\, ofwel de materie is in de cloud.\nHoe is materie ontstaan? Wat is zwaartekracht? Is er meer tussen hemel en aarde?\nMet al deze vragen betreden wij het universum van de quantummechanica.\nAccepteer dat ons klassiek denken in meters en seconden onvolledig is en dat de vrijheid van\ndenken zoals je die in je dromen ervaart ook in het echt bestaat.\nGa heerlijk een avond genieten en laat je zekerheden even los om te ervaren dat onze wereld\nveel mooier is dan we denken.
URL:https://spoor-t.nl/kalender/lezing-de-wondere-quantumwereld-pierre-capel/
LOCATION:’t Spoor\, Wendelnesseweg-oost 4\, Sprang-Capelle\, Noord-Brabant\, 5161 ZA\, Netherlands
CATEGORIES:Lezingen
END:VEVENT
END:VCALENDAR